BEGIN:VCALENDAR
VERSION:2.0
PRODID:Events Booking
BEGIN:VEVENT
UID:69ebc3575b36b
SUMMARY:Andrea Scanzi - La Sciagura - Cronaca di un governo di scappati di 
 casa
DESCRIPTION:Andrea Scanzi - La Sciagura - Cronaca di un governo di scappati
  di casa al&nbsp\;Teatro Gustavo Modena il 6 giugno
 Andrea Scanzi torna 
 sul palco con un nuovo spettacolo di satira politica
LOCATION:Piazza Gustavo Modena\, 3\, 16149 Genova GE
DTSTART:20240606T210000Z
DTSTAMP:20240515T172145Z
ORGANIZER;CN=Genova Eventi e Notizie:MAILTO:networkeventnews@gmail.com
GEO:44.411004;8.889708
X-APPLE-STRUCTURED-LOCATION;VALUE=URI;X-ADDRESS=Piazza Gustavo Modena\, 3\,
  16149 Genova GE;X-APPLE-RADIUS=72;X-TITLE=Teatro Gustavo Modena:44.411004
 ;8.889708
END:VEVENT
END:VCALENDAR