BEGIN:VCALENDAR
VERSION:2.0
PRODID:Events Booking
BEGIN:VEVENT
UID:69ebc238328b3
SUMMARY:Birralonga 2024 
DESCRIPTION:&nbsp\;Birralonga 2024 a Genova Centro Storico il
 La grande d
 egustazione di birre che si snoda lungo i vicoli del Centro Storico genove
 se.
LOCATION:Centro storico di Genova
DTSTART:20240526T120000Z
DTSTAMP:20240515T172809Z
ORGANIZER;CN=Genova Eventi e Notizie:MAILTO:networkeventnews@gmail.com
GEO:44.411997;8.927889
X-APPLE-STRUCTURED-LOCATION;VALUE=URI;X-ADDRESS=Centro storico di Genova;X-
 APPLE-RADIUS=72;X-TITLE=Genova:44.411997;8.927889
END:VEVENT
END:VCALENDAR