BEGIN:VCALENDAR
VERSION:2.0
PRODID:Events Booking
BEGIN:VEVENT
UID:69ebf2b4346da
SUMMARY:\"La Villa dei destini incrociati\" della Compagnia teatrale I Conv
 iviali
DESCRIPTION:\"La Villa dei destini incrociati\" della Compagnia teatrale I 
 Conviviali
LOCATION:Via San Fruttuoso\, Genova\, 16143 Liguria\, Italia
DTSTART:20240620T203000Z
DTSTAMP:20240614T122308Z
ORGANIZER;CN=Genova Eventi e Notizie:MAILTO:networkeventnews@gmail.com
GEO:44.407626;8.96235
X-APPLE-STRUCTURED-LOCATION;VALUE=URI;X-ADDRESS=Via San Fruttuoso\, Genova\
 , 16143 Liguria\, Italia;X-APPLE-RADIUS=72;X-TITLE=Villa Imperiale:44.4076
 26;8.96235
END:VEVENT
END:VCALENDAR