BEGIN:VCALENDAR
VERSION:2.0
PRODID:Events Booking
BEGIN:VEVENT
UID:69ebc32a57ad8
SUMMARY:World Football Freestyle Contest
DESCRIPTION:World Football Freestyle Contest Genova 2024 al Porto Antico il
  24 e 25 maggio
 Contest Internazionale di calcio freestyle e street socc
 er
LOCATION:Porto Antico di Genova
DTSTART:20240524T170000Z
DTEND:20240525T170000Z
DTSTAMP:20240515T193927Z
ORGANIZER;CN=Genova Eventi e Notizie:MAILTO:networkeventnews@gmail.com
GEO:44.408931;8.926469
X-APPLE-STRUCTURED-LOCATION;VALUE=URI;X-ADDRESS=Porto Antico di Genova;X-AP
 PLE-RADIUS=72;X-TITLE=Porto Antico:44.408931;8.926469
END:VEVENT
END:VCALENDAR