BEGIN:VCALENDAR
VERSION:2.0
PRODID:Events Booking
BEGIN:VEVENT
UID:69ebd9c8e664b
SUMMARY:Break Free - Queen Tribute Show
DESCRIPTION:Break Free - Queen Tribute Show all'arena del mare il 29 luglio
 
 &nbsp\;
LOCATION:Arena del Mare
DTSTART:20240729T210000Z
DTSTAMP:20240515T193115Z
ORGANIZER;CN=Genova Eventi e Notizie:MAILTO:networkeventnews@gmail.com
GEO:44.407996;8.918731
X-APPLE-STRUCTURED-LOCATION;VALUE=URI;X-ADDRESS=Arena del Mare;X-APPLE-RADI
 US=72;X-TITLE=Arena del Mare:44.407996;8.918731
END:VEVENT
END:VCALENDAR