BEGIN:VCALENDAR
VERSION:2.0
PRODID:Events Booking
BEGIN:VEVENT
UID:69ebf1a36841d
SUMMARY:Dembow Festival
DESCRIPTION:Dembow Festival al&nbsp\;Crazy Bull il 1 giugno 2024
 Il primo
  festival musicale latinoamericano italiano
LOCATION:Via Eustachio Degola\, 4/r\, 16151 Genova GE
DTSTART:20240601T170000Z
DTSTAMP:20240515T100547Z
ORGANIZER;CN=Genova Eventi e Notizie:MAILTO:networkeventnews@gmail.com
GEO:44.414062;8.885335
X-APPLE-STRUCTURED-LOCATION;VALUE=URI;X-ADDRESS=Via Eustachio Degola\, 4/r\
 , 16151 Genova GE;X-APPLE-RADIUS=72;X-TITLE=Crazy Bull:44.414062;8.885335
END:VEVENT
END:VCALENDAR