BEGIN:VCALENDAR
VERSION:2.0
PRODID:Events Booking
BEGIN:VEVENT
UID:69ebd95b5927b
SUMMARY:Edoardo Bennato Live
DESCRIPTION:Bennato Rock Summer Tour a Villa Grimaldi il 25 luglio 2024
LOCATION:Via Capolungo\, 9\, 16167 Genova GE
DTSTART:20240725T210000Z
DTSTAMP:20240515T183240Z
ORGANIZER;CN=Genova Eventi e Notizie:MAILTO:networkeventnews@gmail.com
GEO:44.381542;9.047694
X-APPLE-STRUCTURED-LOCATION;VALUE=URI;X-ADDRESS=Via Capolungo\, 9\, 16167 G
 enova GE;X-APPLE-RADIUS=72;X-TITLE=Villa Grimaldi:44.381542;9.047694
END:VEVENT
END:VCALENDAR