BEGIN:VCALENDAR
VERSION:2.0
PRODID:Events Booking
BEGIN:VEVENT
UID:69ebda4f1b97f
SUMMARY:Giovanni Alvino pianoforte - CONCERTI DI PRIMAVERA
DESCRIPTION:Giovanni Alvino pianoforte il&nbsp\; 22 maggio 2024 ore 16:00 p
 resso&nbsp\;Musei Nazionali di Genova - Palazzo Spinola
 Il suo pianismo 
 è frutto del suo innato talento e della fondamentale guida del didatta na
 poletano Carlo Alessandro Lapegna
 &nbsp\;
LOCATION:Piazza di Pellicceria\, 1\, 16123 Genova GE
DTSTART:20240522T160000Z
DTSTAMP:20240515T121610Z
ORGANIZER;CN=Genova Eventi e Notizie:MAILTO:networkeventnews@gmail.com
GEO:44.411067;8.930302
X-APPLE-STRUCTURED-LOCATION;VALUE=URI;X-ADDRESS=Piazza di Pellicceria\, 1\,
  16123 Genova GE;X-APPLE-RADIUS=72;X-TITLE=Palazzo Spinola:44.411067;8.930
 302
END:VEVENT
END:VCALENDAR