BEGIN:VCALENDAR
VERSION:2.0
PRODID:Events Booking
BEGIN:VEVENT
UID:69ebc2accb360
SUMMARY:King Hannah - Mojotic Festival 2024
DESCRIPTION:King Hannah per il&nbsp\;Mojotic Festival 2024 al Porto Antico 
 il 18 luglio
LOCATION:Piazza delle Feste
DTSTART:20240718T210000Z
DTSTAMP:20240515T195141Z
ORGANIZER;CN=Genova Eventi e Notizie:MAILTO:networkeventnews@gmail.com
GEO:44.409073;8.927459
X-APPLE-STRUCTURED-LOCATION;VALUE=URI;X-ADDRESS=Piazza delle Feste;X-APPLE-
 RADIUS=72;X-TITLE=Piazza delle Feste:44.409073;8.927459
END:VEVENT
END:VCALENDAR