BEGIN:VCALENDAR
VERSION:2.0
PRODID:Events Booking
BEGIN:VEVENT
UID:69ebc2ebc9b5c
SUMMARY:Piero Pelù Deserti Tour 2024
DESCRIPTION:Piero Pelù con Deserti Tour 2024 all'Arena del Mare l' 8 lugli
 o
LOCATION:Arena del Mare
DTSTART:20240708T210000Z
DTSTAMP:20240515T190543Z
ORGANIZER;CN=Genova Eventi e Notizie:MAILTO:networkeventnews@gmail.com
GEO:44.407996;8.918731
X-APPLE-STRUCTURED-LOCATION;VALUE=URI;X-ADDRESS=Arena del Mare;X-APPLE-RADI
 US=72;X-TITLE=Arena del Mare:44.407996;8.918731
END:VEVENT
END:VCALENDAR