BEGIN:VCALENDAR
VERSION:2.0
PRODID:Events Booking
BEGIN:VEVENT
UID:69ebc2e1cba0c
SUMMARY:ROYEL OTIS - Mojotic Festival 2024
DESCRIPTION:ROYEL OTIS al Mojotic Festival in Piazza delle Feste al Porto A
 ntico il 4 luglio
 ROYEL OTIS al Mojotic Festival\, per presentare il lor
 o album d'esordio Pratts &amp\; Prain
LOCATION:Piazza delle Feste
DTSTART:20240704T213000Z
DTSTAMP:20240515T195639Z
ORGANIZER;CN=Genova Eventi e Notizie:MAILTO:networkeventnews@gmail.com
GEO:44.409073;8.927459
X-APPLE-STRUCTURED-LOCATION;VALUE=URI;X-ADDRESS=Piazza delle Feste;X-APPLE-
 RADIUS=72;X-TITLE=Piazza delle Feste:44.409073;8.927459
END:VEVENT
END:VCALENDAR