BEGIN:VCALENDAR
VERSION:2.0
PRODID:Events Booking
BEGIN:VEVENT
UID:69ebdb5ee8f2d
SUMMARY:SubSonica - Live in Genova Festival
DESCRIPTION:SubSonica al Live in Genova Festival il 18 luglio nella splendi
 da cornice dell'Arena del Mare al porto antico di Genova.
LOCATION:Arena del Mare
DTSTART:20240718T210000Z
DTSTAMP:20240515T184738Z
ORGANIZER;CN=Genova Eventi e Notizie:MAILTO:networkeventnews@gmail.com
GEO:44.407996;8.918731
X-APPLE-STRUCTURED-LOCATION;VALUE=URI;X-ADDRESS=Arena del Mare;X-APPLE-RADI
 US=72;X-TITLE=Arena del Mare:44.407996;8.918731
END:VEVENT
END:VCALENDAR