BEGIN:VCALENDAR
VERSION:2.0
PRODID:Events Booking
BEGIN:VEVENT
UID:69ebc32f61323
SUMMARY:VOGLIO TORNARE NEGLI ANNI '90 - Balena Festival
DESCRIPTION:VOGLIO TORNARE NEGLI ANNI 90 -&nbsp\;Balena Festival all'Arena 
 del Mare il 28 luglio
 &nbsp\;
 Il Live Show anni ‘90 più grande d’
 Italia&nbsp\;
LOCATION:Arena del Mare
DTSTART:20240728T190000Z
DTSTAMP:20240515T194554Z
ORGANIZER;CN=Genova Eventi e Notizie:MAILTO:networkeventnews@gmail.com
GEO:44.407996;8.918731
X-APPLE-STRUCTURED-LOCATION;VALUE=URI;X-ADDRESS=Arena del Mare;X-APPLE-RADI
 US=72;X-TITLE=Arena del Mare:44.407996;8.918731
END:VEVENT
END:VCALENDAR