BEGIN:VCALENDAR
VERSION:2.0
PRODID:Events Booking
BEGIN:VEVENT
UID:69ebc223aecfe
SUMMARY:Corso di scacchi per bambini
DESCRIPTION:Corso di scacchi per bambini e ragazzi che si terrà settimanal
 mente presso la&nbsp\;U.S.Acli Santa Sabina.
LOCATION:Via Donghi\, 8\, 16132 Genova GE
DTSTART:20240615T100000Z
DTSTAMP:20240515T173314Z
ORGANIZER;CN=Genova Eventi e Notizie:MAILTO:networkeventnews@gmail.com
GEO:44.407983;8.966299
X-APPLE-STRUCTURED-LOCATION;VALUE=URI;X-ADDRESS=Via Donghi\, 8\, 16132 Geno
 va GE;X-APPLE-RADIUS=72;X-TITLE=U.S. Santa Sabina:44.407983;8.966299
END:VEVENT
END:VCALENDAR