BEGIN:VCALENDAR
VERSION:2.0
PRODID:Events Booking
BEGIN:VEVENT
UID:69ebf26d50f1d
SUMMARY:Corso teorico pratico di medicina estetica per medici e odontoiatri
DESCRIPTION:Corso teorico pratico di medicina estetica per medici e odontoi
 atri presso il Novotel Genova City 18 e 19 ottobre 2024
 Durante il corso
 \, i partecipanti avranno la possibilità di assistere e osservare dal viv
 o i trattamenti eseguiti su due modelle.
LOCATION:Via Antonio Cantore\, 8\, 16149 Genova GE
DTSTART:20241018T100000Z
DTEND:20241019T230000Z
DTSTAMP:20240515T202320Z
ORGANIZER;CN=Genova Eventi e Notizie:MAILTO:networkeventnews@gmail.com
GEO:44.410798;8.902122
X-APPLE-STRUCTURED-LOCATION;VALUE=URI;X-ADDRESS=Via Antonio Cantore\, 8\, 1
 6149 Genova GE;X-APPLE-RADIUS=72;X-TITLE=Novotel:44.410798;8.902122
END:VEVENT
END:VCALENDAR