BEGIN:VCALENDAR
VERSION:2.0
PRODID:Events Booking
BEGIN:VEVENT
UID:69ebc20b2793f
SUMMARY:Festival della Scienza 2024 - Sfide
DESCRIPTION:Festival della Scienza 2024 - Sfide a Genova dal 24 ottobre al 
 3 novembre
 Evento di diffusione della cultura scientifica&nbsp\;divent
 ato negli anni un punto di riferimento a livello internazionale
LOCATION:Centro storico di Genova
DTSTART:20241024T100000Z
DTEND:20241103T230000Z
DTSTAMP:20240515T200411Z
ORGANIZER;CN=Genova Eventi e Notizie:MAILTO:networkeventnews@gmail.com
GEO:44.411997;8.927889
X-APPLE-STRUCTURED-LOCATION;VALUE=URI;X-ADDRESS=Centro storico di Genova;X-
 APPLE-RADIUS=72;X-TITLE=Genova:44.411997;8.927889
END:VEVENT
END:VCALENDAR