BEGIN:VCALENDAR
VERSION:2.0
PRODID:Events Booking
BEGIN:VEVENT
UID:69ebf1f32c8a5
SUMMARY:Genova città Ebraica - visite guidate
DESCRIPTION:Genova città Ebraica - La visita guidata ogni domenica sino al
  14 luglio
 Un'intensa visita dedicata alla presenza degli Ebrei a Genova
  nel corso dei secoli.
LOCATION:Piazza della Nunziata\, Genova GE
DTSTART:20240602T160000Z
DTSTAMP:20240515T115739Z
ORGANIZER;CN=Genova Eventi e Notizie:MAILTO:networkeventnews@gmail.com
GEO:44.414062;8.928425
X-APPLE-STRUCTURED-LOCATION;VALUE=URI;X-ADDRESS=Piazza della Nunziata\, Gen
 ova GE;X-APPLE-RADIUS=72;X-TITLE=Piazza della Nunziata:44.414062;8.928425
END:VEVENT
END:VCALENDAR