BEGIN:VCALENDAR
VERSION:2.0
PRODID:Events Booking
BEGIN:VEVENT
UID:69ec09ec0fbfa
SUMMARY:Giornata di introduzione all'Enneagramma
DESCRIPTION:Giornata di introduzione all'Enneagramma presso&nbsp\;DCS Accad
 emy il 9 giugno
 L'Enneagramma è una mappa dell’esperienza umana a sos
 tegno dell’evoluzione della coscienza umana e della consapevolezza attra
 verso la conoscenza di sé.
LOCATION:Via Gaz\, 2/2\, 16159 Genova GE
DTSTART:20240609T100000Z
DTSTAMP:20240515T180042Z
ORGANIZER;CN=Genova Eventi e Notizie:MAILTO:networkeventnews@gmail.com
GEO:44.428586;8.892323
X-APPLE-STRUCTURED-LOCATION;VALUE=URI;X-ADDRESS=Via Gaz\, 2/2\, 16159 Genov
 a GE;X-APPLE-RADIUS=72;X-TITLE=DCS Academy:44.428586;8.892323
END:VEVENT
END:VCALENDAR