BEGIN:VCALENDAR
VERSION:2.0
PRODID:Events Booking
BEGIN:VEVENT
UID:69ebc22db24bc
SUMMARY:THE GENOESER Visual Days
DESCRIPTION:THE GENOESER Visual Days al Centro Storico di Genova il 15 e 16
  giugno 2024
 Due giorni per immaginare insieme il futuro del centro stor
 ico a partire dalle ricchezze che già lo abitano.
LOCATION:Centro storico di Genova
DTSTART:20240615T090000Z
DTEND:20240616T230000Z
DTSTAMP:20240515T175416Z
ORGANIZER;CN=Genova Eventi e Notizie:MAILTO:networkeventnews@gmail.com
GEO:44.411997;8.927889
X-APPLE-STRUCTURED-LOCATION;VALUE=URI;X-ADDRESS=Centro storico di Genova;X-
 APPLE-RADIUS=72;X-TITLE=Genova:44.411997;8.927889
END:VEVENT
END:VCALENDAR