BEGIN:VCALENDAR
VERSION:2.0
PRODID:Events Booking
BEGIN:VEVENT
UID:69ebf0c820c2e
SUMMARY:FOOL PARTY
DESCRIPTION:FOOL PARTY al Fiera del Mare il&nbsp\;15 giugno
 Dagli amici s
 ampdoriani per divertirci assieme durante la 19esima Festa Ultras Tito Cuc
 chiaroni
LOCATION:Piazzale John Fitzgerald Kennedy\, Genova\, 16129 Liguria\, Italia
DTSTART:20240615T190000Z
DTSTAMP:20240515T121030Z
ORGANIZER;CN=Genova Eventi e Notizie:MAILTO:networkeventnews@gmail.com
GEO:44.395553;8.944151
X-APPLE-STRUCTURED-LOCATION;VALUE=URI;X-ADDRESS=Piazzale John Fitzgerald Ke
 nnedy\, Genova\, 16129 Liguria\, Italia;X-APPLE-RADIUS=72;X-TITLE=Fiera de
 l Mare:44.395553;8.944151
END:VEVENT
END:VCALENDAR