BEGIN:VCALENDAR
VERSION:2.0
PRODID:Events Booking
BEGIN:VEVENT
UID:69ebd8aef40f9
SUMMARY:Visioni Emergenti
DESCRIPTION:Visioni Emergenti a&nbsp\;Villa Migone il 1 giugno 2024
 L’e
 vento sarà arricchito dalla collaborazione con panifici e vinoteche local
 i\, che contribuiranno a creare un’atmosfera unica attraverso i sapori d
 ella nostra città
LOCATION:Via S. Fruttuoso\, 68\, 16143 Genova GE
DTSTART:20240601T100000Z
DTSTAMP:20240515T094529Z
ORGANIZER;CN=Genova Eventi e Notizie:MAILTO:networkeventnews@gmail.com
GEO:44.411191;8.959143
X-APPLE-STRUCTURED-LOCATION;VALUE=URI;X-ADDRESS=Via S. Fruttuoso\, 68\, 161
 43 Genova GE;X-APPLE-RADIUS=72;X-TITLE=Villa Migone:44.411191;8.959143
END:VEVENT
END:VCALENDAR