BEGIN:VCALENDAR
VERSION:2.0
PRODID:Events Booking
BEGIN:VEVENT
UID:69ebd9ce03c84
SUMMARY:Gin & Tonic Festival 2024 | Genova Summer Edition
DESCRIPTION:Gin &amp\; Tonic Festival 2024 | Genova Summer Edition presso i
 l&nbsp\;Parco Villa Serra di Comago l'8 e il 9 giugno 2024
 𝖨𝗅 𝗉
 𝗂𝗎̀ 𝗀𝗋𝖺𝗇𝖽𝖾 𝖿𝖾𝗌𝗍𝗂𝗏𝖺𝗅 𝖽
 𝖾𝖽𝗂𝖼𝖺𝗍𝗈 𝖺𝗅 𝖦𝗂𝗇 &amp\; 𝖳𝗈𝗇𝗂
 𝖼 𝗂𝗇 𝖨𝗍𝖺𝗅𝗂𝖺. 𝟤 𝗀𝗂𝗈𝗋𝗇𝗂 𝖽
 𝗂 𝖿𝖾𝗌𝗍𝖺\, 𝖽𝖾𝗀𝗎𝗌𝗍𝖺𝗓𝗂𝗈𝗇
 𝗂 𝖾 𝖽𝗂𝗏𝖾𝗋𝗍𝗂𝗆𝖾𝗇𝗍𝗈
LOCATION:Via Carlo Levi\, 2\, 16010 Sant'Olcese GE
DTSTART:20240608T160000Z
DTEND:20240609T230000Z
DTSTAMP:20240515T103230Z
ORGANIZER;CN=Genova Eventi e Notizie:MAILTO:networkeventnews@gmail.com
GEO:44.487701;8.920505
X-APPLE-STRUCTURED-LOCATION;VALUE=URI;X-ADDRESS=Via Carlo Levi\, 2\, 16010 
 Sant'Olcese GE;X-APPLE-RADIUS=72;X-TITLE=Parco Villa Serra:44.487701;8.920
 505
END:VEVENT
END:VCALENDAR