BEGIN:VCALENDAR
VERSION:2.0
PRODID:Events Booking
BEGIN:VEVENT
UID:69ebc21ebc38d
SUMMARY:NatiScalzi
DESCRIPTION:NatiScalzi a piazza del Principe il 25 e 26 maggio 2024
 A Gen
 ova scalzi\, per dimostrare che si può piacevolmente camminare senza scar
 pe anche in un ambiente apparentemente ostico come quello cittadino
LOCATION:Piazza del Principe\, 16126 Genova GE
DTSTART:20240525T090000Z
DTEND:20240526T230000Z
DTSTAMP:20240515T095939Z
ORGANIZER;CN=Genova Eventi e Notizie:MAILTO:networkeventnews@gmail.com
GEO:44.416658;8.918495
X-APPLE-STRUCTURED-LOCATION;VALUE=URI;X-ADDRESS=Piazza del Principe\, 16126
  Genova GE;X-APPLE-RADIUS=72;X-TITLE=Piazza Principe:44.416658;8.918495
END:VEVENT
END:VCALENDAR