BEGIN:VCALENDAR
VERSION:2.0
PRODID:Events Booking
BEGIN:VEVENT
UID:69ebc2c7118b2
SUMMARY:Biagio Antonacci - Live in Genova Festival
DESCRIPTION:Biagio Antonacci al Live in Genova Festival il 28 e 29 giugno n
 ella splendida cornice dell'Arena del Mare al porto antico di Genova.
LOCATION:Arena del Mare
DTSTART:20240628T210000Z
DTEND:20240629T210000Z
DTSTAMP:20240515T185849Z
ORGANIZER;CN=Genova Eventi e Notizie:MAILTO:networkeventnews@gmail.com
GEO:44.407996;8.918731
X-APPLE-STRUCTURED-LOCATION;VALUE=URI;X-ADDRESS=Arena del Mare;X-APPLE-RADI
 US=72;X-TITLE=Arena del Mare:44.407996;8.918731
END:VEVENT
END:VCALENDAR