BEGIN:VCALENDAR
VERSION:2.0
PRODID:Events Booking
BEGIN:VEVENT
UID:69ebf08e28aed
SUMMARY:CONCORSO DANZA ORIENTALE
DESCRIPTION:CONCORSO DANZA ORIENTALE GENOVA presso il Teatro centrale Strad
 aNuova il 24 maggio 2024
 Categorie Soliste e Gruppi
 &nbsp\;
LOCATION:Vico Boccanegra\, 16124 Genova GE
DTSTART:20240524T183000Z
DTSTAMP:20240515T102056Z
ORGANIZER;CN=Genova Eventi e Notizie:MAILTO:networkeventnews@gmail.com
GEO:44.411149;8.931871
X-APPLE-STRUCTURED-LOCATION;VALUE=URI;X-ADDRESS=Vico Boccanegra\, 16124 Gen
 ova GE;X-APPLE-RADIUS=72;X-TITLE=Teatro Stradanuova:44.411149;8.931871
END:VEVENT
END:VCALENDAR