BEGIN:VCALENDAR
VERSION:2.0
PRODID:Events Booking
BEGIN:VEVENT
UID:69ebd9df1297d
SUMMARY:Electropark - festival di musica elettronica
DESCRIPTION:Electropark\, festival di musica elettronica presso la darsena 
 del&nbsp\;Galata Museo del Mare dall'11 al 14 luglio
LOCATION:Calata Ansaldo De Mari\, 1\, 16126 Genova GE
DTSTART:20240711T080000Z
DTEND:20240714T230000Z
DTSTAMP:20240515T203207Z
ORGANIZER;CN=Genova Eventi e Notizie:MAILTO:networkeventnews@gmail.com
GEO:44.414422;8.923646
X-APPLE-STRUCTURED-LOCATION;VALUE=URI;X-ADDRESS=Calata Ansaldo De Mari\, 1\
 , 16126 Genova GE;X-APPLE-RADIUS=72;X-TITLE=Galata:44.414422;8.923646
END:VEVENT
END:VCALENDAR