BEGIN:VCALENDAR
VERSION:2.0
PRODID:Events Booking
BEGIN:VEVENT
UID:69ebd7e8393a3
SUMMARY:Ermal Meta - Live in Genova Festival
DESCRIPTION:Ermal Meta venerdì 19 luglio nella splendida cornice dell'Aren
 a del Mare al porto antico di Genova
 Live in Genova Festival
LOCATION:Arena del Mare
DTSTART:20240719T210000Z
DTSTAMP:20240515T184011Z
ORGANIZER;CN=Genova Eventi e Notizie:MAILTO:networkeventnews@gmail.com
GEO:44.407996;8.918731
X-APPLE-STRUCTURED-LOCATION;VALUE=URI;X-ADDRESS=Arena del Mare;X-APPLE-RADI
 US=72;X-TITLE=Arena del Mare:44.407996;8.918731
END:VEVENT
END:VCALENDAR