BEGIN:VCALENDAR
VERSION:2.0
PRODID:Events Booking
BEGIN:VEVENT
UID:69ebd989db400
SUMMARY:Giovanni Allevi - Piano Solo Tour 2024
DESCRIPTION:Giovanni Allevi - Piano Solo Tour 2024 al Politeama Genovese l'
 11 novembre 2024
 Il pianoforte e il genio di Giovanni Allevi in teatro
LOCATION:Via Nicolò Bacigalupo\, 2\, 16122 Genova GE
DTSTART:20241111T210000Z
DTSTAMP:20240515T203833Z
ORGANIZER;CN=Genova Eventi e Notizie:MAILTO:networkeventnews@gmail.com
GEO:44.411337;8.937934
X-APPLE-STRUCTURED-LOCATION;VALUE=URI;X-ADDRESS=Via Nicolò Bacigalupo\, 2\
 , 16122 Genova GE;X-APPLE-RADIUS=72;X-TITLE=Politeama Genovese:44.411337;8
 .937934
END:VEVENT
END:VCALENDAR