BEGIN:VCALENDAR
VERSION:2.0
PRODID:Events Booking
BEGIN:VEVENT
UID:69ebf21a2470b
SUMMARY:IDFC - International Dance Festival e Competition - Around the Wor
 ld 2024
DESCRIPTION:IDFC Around the World 2024 a&nbsp\;Villa Durazzo Bombrini dal 2
 1 al 23 giugno 2024
LOCATION:Via Lodovico Antonio Muratori\, 5\, 16152 Genova GE
DTSTART:20240621T100000Z
DTEND:20240623T230000Z
DTSTAMP:20240515T201424Z
ORGANIZER;CN=Genova Eventi e Notizie:MAILTO:networkeventnews@gmail.com
GEO:44.41548;8.875434
X-APPLE-STRUCTURED-LOCATION;VALUE=URI;X-ADDRESS=Via Lodovico Antonio Murato
 ri\, 5\, 16152 Genova GE;X-APPLE-RADIUS=72;X-TITLE=Villa Durazzo:44.41548;
 8.875434
END:VEVENT
END:VCALENDAR