BEGIN:VCALENDAR
VERSION:2.0
PRODID:Events Booking
BEGIN:VEVENT
UID:69ebdaa07ffca
SUMMARY:Le Storie del Sabato - Le Mileggiamè per i 140 anni di Pinocchio
DESCRIPTION:Le Storie del Sabato - Le Mileggiamè per i 140 anni di Pinocch
 io presso la Biblioteca Internazionale per Ragazzi Edmondo De Amicis il 25
  maggio
LOCATION:Magazzini del Cotone\, Porto Antico di\, 1° Modulo\, 2° piano\, 
 16126 Genova GE
DTSTART:20240525T160000Z
DTSTAMP:20240515T173905Z
ORGANIZER;CN=Genova Eventi e Notizie:MAILTO:networkeventnews@gmail.com
GEO:44.456693;8.920196
X-APPLE-STRUCTURED-LOCATION;VALUE=URI;X-ADDRESS=Magazzini del Cotone\, Port
 o Antico di\, 1° Modulo\, 2° piano\, 16126 Genova GE;X-APPLE-RADIUS=72;X
 -TITLE=Biblioteca De Amicis:44.456693;8.920196
END:VEVENT
END:VCALENDAR