BEGIN:VCALENDAR
VERSION:2.0
PRODID:Events Booking
BEGIN:VEVENT
UID:69ebd92490773
SUMMARY:Limpido Festival
DESCRIPTION:Limpido Festival presso il Teatro Garage dal 7 al 9 giugno
LOCATION:Via Paggi\, 43b\, 16143 Genova GE
DTSTART:20240607T210000Z
DTEND:20240609T230000Z
DTSTAMP:20240515T181732Z
ORGANIZER;CN=Genova Eventi e Notizie:MAILTO:networkeventnews@gmail.com
GEO:44.408177;8.958841
X-APPLE-STRUCTURED-LOCATION;VALUE=URI;X-ADDRESS=Via Paggi\, 43b\, 16143 Gen
 ova GE;X-APPLE-RADIUS=72;X-TITLE=Teatro Garage:44.408177;8.958841
END:VEVENT
END:VCALENDAR