BEGIN:VCALENDAR
VERSION:2.0
PRODID:Events Booking
BEGIN:VEVENT
UID:69ebc29201244
SUMMARY:MAHMOOD - Live in Genova Festival
DESCRIPTION:MAHMOOD&nbsp\;al Live in Genova Festival il 13 luglio nella spl
 endida cornice dell'Arena del Mare al porto antico di Genova.
LOCATION:Arena del Mare
DTSTART:20240713T210000Z
DTSTAMP:20240515T185404Z
ORGANIZER;CN=Genova Eventi e Notizie:MAILTO:networkeventnews@gmail.com
GEO:44.407996;8.918731
X-APPLE-STRUCTURED-LOCATION;VALUE=URI;X-ADDRESS=Arena del Mare;X-APPLE-RADI
 US=72;X-TITLE=Arena del Mare:44.407996;8.918731
END:VEVENT
END:VCALENDAR