BEGIN:VCALENDAR
VERSION:2.0
PRODID:Events Booking
BEGIN:VEVENT
UID:69ebf1a573f91
SUMMARY:Milonga Bien Porteña sul mare a Genova 
DESCRIPTION:Milonga Bien Porteña presso la Terrazza Piazzale Carristi d'It
 alia\, Quinto al Mare\, Genova l'8 giugno
LOCATION:Piazzale Giuseppe Rusca\, 1\, 16166 Genova GE
DTSTART:20240608T210000Z
DTSTAMP:20240515T122255Z
ORGANIZER;CN=Genova Eventi e Notizie:MAILTO:networkeventnews@gmail.com
GEO:44.384173;9.018846
X-APPLE-STRUCTURED-LOCATION;VALUE=URI;X-ADDRESS=Piazzale Giuseppe Rusca\, 1
 \, 16166 Genova GE;X-APPLE-RADIUS=72;X-TITLE=Piazzale Carristi D'Italia:44
 .384173;9.018846
END:VEVENT
END:VCALENDAR