BEGIN:VCALENDAR
VERSION:2.0
PRODID:Events Booking
BEGIN:VEVENT
UID:69ebd8b414f57
SUMMARY:Pink Floyd Tribute live 
DESCRIPTION:Pink Floyd Tribute live 2024 al Crazy Bull il 7 giugno
LOCATION:Via Eustachio Degola\, 4/r\, 16151 Genova GE
DTSTART:20240607T213000Z
DTSTAMP:20240515T193428Z
ORGANIZER;CN=Genova Eventi e Notizie:MAILTO:networkeventnews@gmail.com
GEO:44.414062;8.885335
X-APPLE-STRUCTURED-LOCATION;VALUE=URI;X-ADDRESS=Via Eustachio Degola\, 4/r\
 , 16151 Genova GE;X-APPLE-RADIUS=72;X-TITLE=Crazy Bull:44.414062;8.885335
END:VEVENT
END:VCALENDAR