BEGIN:VCALENDAR
VERSION:2.0
PRODID:Events Booking
BEGIN:VEVENT
UID:69ebd7e69b9ff
SUMMARY:Simone Cristicchi e Amara Live
DESCRIPTION:Simone Cristicchi e Amara all'Arena del Mare - Porto Antico di 
 Genova il 31 luglio 2024
LOCATION:Arena del Mare
DTSTART:20240731T213000Z
DTSTAMP:20240515T190856Z
ORGANIZER;CN=Genova Eventi e Notizie:MAILTO:networkeventnews@gmail.com
GEO:44.407996;8.918731
X-APPLE-STRUCTURED-LOCATION;VALUE=URI;X-ADDRESS=Arena del Mare;X-APPLE-RADI
 US=72;X-TITLE=Arena del Mare:44.407996;8.918731
END:VEVENT
END:VCALENDAR