BEGIN:VCALENDAR
VERSION:2.0
PRODID:Events Booking
BEGIN:VEVENT
UID:69ebd851a7663
SUMMARY:Subsound Fest
DESCRIPTION:SUBSOUND FEST presso&nbsp\;LSOA BURIDDA il 7 giugno
 Nella spl
 endida cornice dell' L.S.O.A Buridda Venerdì 7 Giugno una festa enorme!&n
 bsp\;6 band da tutta Italia
LOCATION:Corso Monte Grappa\, 39\, 16137 Genova GE
DTSTART:20240607T180000Z
DTSTAMP:20240515T094847Z
ORGANIZER;CN=Genova Eventi e Notizie:MAILTO:networkeventnews@gmail.com
GEO:44.411622;8.949278
X-APPLE-STRUCTURED-LOCATION;VALUE=URI;X-ADDRESS=Corso Monte Grappa\, 39\, 1
 6137 Genova GE;X-APPLE-RADIUS=72;X-TITLE=LSOA Burrida:44.411622;8.949278
END:VEVENT
END:VCALENDAR