BEGIN:VCALENDAR
VERSION:2.0
PRODID:Events Booking
BEGIN:VEVENT
UID:69ebf1f263983
SUMMARY:Tai Chi Chuan e Qi Gong del M° Carlo Lopez a Genova
DESCRIPTION:Tai Chi Chuan e Qi Gong del M° Carlo Lopez\, Discepolo di VI g
 enerazione della famiglia Yang e Caposcuola ITCCA Italia\, al Sogno di Lao
  a Genova
LOCATION:Piazza Cattaneo\, 26/13\, 16128 Genova GE
DTSTART:20240525T100000Z
DTEND:20240526T230000Z
DTSTAMP:20240515T120235Z
ORGANIZER;CN=Genova Eventi e Notizie:MAILTO:networkeventnews@gmail.com
GEO:44.407531;8.928577
X-APPLE-STRUCTURED-LOCATION;VALUE=URI;X-ADDRESS=Piazza Cattaneo\, 26/13\, 1
 6128 Genova GE;X-APPLE-RADIUS=72;X-TITLE=Il Sogno di Lao:44.407531;8.92857
 7
END:VEVENT
END:VCALENDAR