BEGIN:VCALENDAR
VERSION:2.0
PRODID:Events Booking
BEGIN:VEVENT
UID:69ebd9fa01352
SUMMARY:Testimoni Silenziosi - Mostra Fotografica di Ilaria Paderi
DESCRIPTION:Testimoni Silenziosi - Mostra Fotografica di Ilaria Paderi pres
 so la Biblioteca Universitaria dal&nbsp\;28 maggio&nbsp\;al 19 giugno 2024
 
 Cambiamenti storici\, politici e sociali in continua evoluzione/involuz
 ione nel nostro territorio
LOCATION:Via Balbi\, 40\, 16126 Genova GE
DTSTART:20240528T100000Z
DTEND:20240619T200000Z
DTSTAMP:20240515T180732Z
ORGANIZER;CN=Genova Eventi e Notizie:MAILTO:networkeventnews@gmail.com
GEO:44.416636;8.922956
X-APPLE-STRUCTURED-LOCATION;VALUE=URI;X-ADDRESS=Via Balbi\, 40\, 16126 Geno
 va GE;X-APPLE-RADIUS=72;X-TITLE=Biblioteca Universitaria:44.416636;8.92295
 6
END:VEVENT
END:VCALENDAR